BEGIN:VCALENDAR
VERSION:2.0
PRODID:-//Avonmore - ECPv4.0.2//NONSGML v1.0//EN
CALSCALE:GREGORIAN
METHOD:PUBLISH
X-WR-CALNAME:Avonmore
X-ORIGINAL-URL:http://avonmorepa.org
X-WR-CALDESC:Events for Avonmore
BEGIN:VEVENT
DTSTART;TZID="UTC-5":20150323T080000
DTEND;TZID="UTC-5":20150323T170000
DTSTAMP:20260423T185831
CREATED:20151222T125447
LAST-MODIFIED:20160109T124251
UID:350422-1427097600-1427130000@avonmorepa.org
SUMMARY:Avonmore Annual Safety Day
DESCRIPTION:Avonmore will once again be hosting our annual Safety Day on Saturday\, November 21st at the Avonmore Convention Center\, Avonmore\, PA from 7:00 AM to 2:00 PM. This free event brings together damage prevention\, underground utility and excavation professionals from all over the region for a day of Education\, Exhibits and Enjoyment.\n\nLearn best practices from the experts\, gain new insights\, expand your professional network\, and improve your understanding of the excavation industry.\nAttend our Excavator Workshop and know the ins and outs of working safely around underground facilities.\nVisit our sponsors and exhibitors and see the latest in the industry.\nStop at one of the training areas situated throughout the exhibit hall and add some extra knowledge to your toolbox.
URL:http://avonmorepa.org/event/avonmore-annual-safety-day/
LOCATION:Kiski\, Avonmore\, PA\, 15618\, United States
ATTACH;FMTTYPE=image/jpeg:http://avonmorepa.org/wp-content/uploads/2015/12/safety-day-avonmore.jpg
ORGANIZER;CN="Avonmore%20Calendar":MAILTO:council@avonmorepa.org
END:VEVENT
END:VCALENDAR