BEGIN:VCALENDAR
VERSION:2.0
PRODID:-//Avonmore - ECPv4.0.2//NONSGML v1.0//EN
CALSCALE:GREGORIAN
METHOD:PUBLISH
X-WR-CALNAME:Avonmore
X-ORIGINAL-URL:http://avonmorepa.org
X-WR-CALDESC:Events for Avonmore
BEGIN:VEVENT
DTSTART;TZID="UTC-5":20151228T145500
DTEND;TZID="UTC-5":20151228T190000
DTSTAMP:20260423T185303
CREATED:20151222T125632
LAST-MODIFIED:20151222T130051
UID:350426-1451314500-1451329200@avonmorepa.org
SUMMARY:Avonmore Senior Citizens Day Out
DESCRIPTION:Our 'Senior Citizens Day Out' is scheduled for for Wednesday\, March 3th at 3:00 p.m.\n\nA musical show followed with dinner is planned.\n\nCall the Center at 724-697-4014 to join.
URL:http://avonmorepa.org/event/avonmore-senior-citizens-day-out/
LOCATION:Kiski\, Avonmore\, PA\, 15618\, United States
ATTACH;FMTTYPE=image/png:http://avonmorepa.org/wp-content/uploads/2015/12/senior-citizen-avonmore.png
ORGANIZER;CN="Avonmore%20Calendar":MAILTO:council@avonmorepa.org
END:VEVENT
END:VCALENDAR