BEGIN:VCALENDAR
VERSION:2.0
PRODID:-//Avonmore - ECPv4.0.2//NONSGML v1.0//EN
CALSCALE:GREGORIAN
METHOD:PUBLISH
X-WR-CALNAME:Avonmore
X-ORIGINAL-URL:http://avonmorepa.org
X-WR-CALDESC:Events for Avonmore
BEGIN:VEVENT
DTSTART;TZID="UTC-5":20151230T080000
DTEND;TZID="UTC-5":20151230T170000
DTSTAMP:20260423T190218
CREATED:20151222T122603
LAST-MODIFIED:20151222T125908
UID:350418-1451462400-1451494800@avonmorepa.org
SUMMARY:Inauguration Of Avonmore Website
DESCRIPTION:Welcome to our Inauguration of  Avonmore Website.
URL:http://avonmorepa.org/event/inauguration-of-avonmore/
LOCATION:Kiski\, Avonmore\, PA\, 15618\, United States
ATTACH;FMTTYPE=image/png:http://avonmorepa.org/wp-content/uploads/2015/12/Inauguration-Of-Avonmore.png
ORGANIZER;CN="Avonmore%20Calendar":MAILTO:council@avonmorepa.org
END:VEVENT
END:VCALENDAR