BEGIN:VCALENDAR
VERSION:2.0
PRODID:-//Avonmore - ECPv4.0.2//NONSGML v1.0//EN
CALSCALE:GREGORIAN
METHOD:PUBLISH
X-WR-CALNAME:Avonmore
X-ORIGINAL-URL:http://avonmorepa.org
X-WR-CALDESC:Events for Avonmore
BEGIN:VEVENT
DTSTART;TZID="UTC-5":20160401T100000
DTEND;TZID="UTC-5":20160401T120000
DTSTAMP:20260423T185846
CREATED:20160324T133436
LAST-MODIFIED:20160324T133717
UID:352493-1459504800-1459512000@avonmorepa.org
SUMMARY:Test Event
DESCRIPTION:Test event description here.\n\nTest event description here.\n\nTest event description here.
URL:http://avonmorepa.org/event/test-event/
LOCATION:Kiski\, Avonmore\, PA\, 15618\, United States
ORGANIZER;CN="Avonmore%20Calendar":MAILTO:council@avonmorepa.org
END:VEVENT
END:VCALENDAR