BEGIN:VCALENDAR
VERSION:2.0
PRODID:-//Avonmore - ECPv4.0.2//NONSGML v1.0//EN
CALSCALE:GREGORIAN
METHOD:PUBLISH
X-WR-CALNAME:Avonmore
X-ORIGINAL-URL:http://avonmorepa.org
X-WR-CALDESC:Events for Avonmore
BEGIN:VEVENT
DTSTART;TZID="UTC-5":20151225T080000
DTEND;TZID="UTC-5":20151225T170000
DTSTAMP:20260423T184423
CREATED:20151217T073853
LAST-MODIFIED:20160316T061714
UID:349219-1451030400-1451062800@avonmorepa.org
SUMMARY:Avonmore Christmas
DESCRIPTION:Its the end of the year and Christmas is here
URL:http://avonmorepa.org/event/test-events/
LOCATION:Kiski\, Avonmore\, PA\, 15618\, United States
ATTACH;FMTTYPE=image/jpeg:http://avonmorepa.org/wp-content/uploads/2015/12/craft-avonmore-children-with-woman-at-christmas-craft.jpg
ORGANIZER;CN="Avonmore%20Calendar":MAILTO:council@avonmorepa.org
END:VEVENT
END:VCALENDAR